BEGIN:VCALENDAR
VERSION:2.0
PRODID:-// - ECPv6.15.17.1//NONSGML v1.0//EN
CALSCALE:GREGORIAN
METHOD:PUBLISH
X-ORIGINAL-URL:https://phxindcenter.org
X-WR-CALDESC:Events for 
REFRESH-INTERVAL;VALUE=DURATION:PT1H
X-Robots-Tag:noindex
X-PUBLISHED-TTL:PT1H
BEGIN:VTIMEZONE
TZID:America/Phoenix
BEGIN:STANDARD
TZOFFSETFROM:-0700
TZOFFSETTO:-0700
TZNAME:MST
DTSTART:20220101T000000
END:STANDARD
END:VTIMEZONE
BEGIN:VEVENT
DTSTART;TZID=America/Phoenix:20230929T130000
DTEND;TZID=America/Phoenix:20230929T150000
DTSTAMP:20260423T043731
CREATED:20230728T232852Z
LAST-MODIFIED:20230811T230457Z
UID:5734-1695992400-1695999600@phxindcenter.org
SUMMARY:Network Support Roundtable
DESCRIPTION:Are you trained in suicide prevention? If so\, please join us for a roundtable discussion. The Urban Indian Coalition of Arizona’s network of support is for anyone who has been trained in ASIST\, safeTALK & QPR. This forum is to establish a safe place to discuss any matters pertaining to suicide prevention\, such as barriers\, successes\, challenges\, and other experiences we have encountered in suicide intervention/prevention. As we work towards establishing suicide-safer communities\, let’s get together to support each other!  To register\, click here.  \nFor more information\, call 602-264-6768 or email UICAZ@phxindcenter.org
URL:https://phxindcenter.org/event/network-support-roundtable/
END:VEVENT
END:VCALENDAR