BEGIN:VCALENDAR
VERSION:2.0
PRODID:-// - ECPv6.15.17.1//NONSGML v1.0//EN
CALSCALE:GREGORIAN
METHOD:PUBLISH
X-ORIGINAL-URL:https://phxindcenter.org
X-WR-CALDESC:Events for 
REFRESH-INTERVAL;VALUE=DURATION:PT1H
X-Robots-Tag:noindex
X-PUBLISHED-TTL:PT1H
BEGIN:VTIMEZONE
TZID:America/Phoenix
BEGIN:STANDARD
TZOFFSETFROM:-0700
TZOFFSETTO:-0700
TZNAME:MST
DTSTART:20220101T000000
END:STANDARD
END:VTIMEZONE
BEGIN:VEVENT
DTSTART;TZID=America/Phoenix:20231028T090000
DTEND;TZID=America/Phoenix:20231028T150000
DTSTAMP:20260423T020321
CREATED:20230922T002303Z
LAST-MODIFIED:20230923T000249Z
UID:5900-1698483600-1698505200@phxindcenter.org
SUMMARY:Youth Job Readiness Training Session 3
DESCRIPTION:High School students: Join us for a two day in-person workshop to introduce high school students to the workforce and teach them workplace skills such as: \n– Acing the Interview\n– Effective Communication\n– Resume Writing\n– And much more! \nAll youth that register and attend the workshop will be paid for their time. \nSpace is limited and registration fills up quick. To register\, click here. \nCall us at 602-264-6768 for questions and information.
URL:https://phxindcenter.org/event/youth-job-readiness-training-session-3/
END:VEVENT
END:VCALENDAR