BEGIN:VCALENDAR
VERSION:2.0
PRODID:-// - ECPv6.15.17.1//NONSGML v1.0//EN
CALSCALE:GREGORIAN
METHOD:PUBLISH
X-ORIGINAL-URL:https://phxindcenter.org
X-WR-CALDESC:Events for 
REFRESH-INTERVAL;VALUE=DURATION:PT1H
X-Robots-Tag:noindex
X-PUBLISHED-TTL:PT1H
BEGIN:VTIMEZONE
TZID:America/Phoenix
BEGIN:STANDARD
TZOFFSETFROM:-0700
TZOFFSETTO:-0700
TZNAME:MST
DTSTART:20240101T000000
END:STANDARD
END:VTIMEZONE
BEGIN:VEVENT
DTSTART;TZID=America/Phoenix:20250416T090000
DTEND;TZID=America/Phoenix:20250416T100000
DTSTAMP:20260421T042924
CREATED:20250312T160611Z
LAST-MODIFIED:20250312T160611Z
UID:8879-1744794000-1744797600@phxindcenter.org
SUMMARY:Aceing the Interview
DESCRIPTION:To get the job\, you must “Ace the interview!” To get you ready\, we cover every detail needed to prepare you for your interview. Let’s prepare for and have an effective interview! In this session\, the interview process will be covered from beginning to end. We will address how to get ready for the interview\, how to make a good first impression\, recognize the various types of questions and utilize the STAR technique and a review of the 50 most common interviewing questions. We will also review questions for you to ask the interviewer (a crucial moment in your interview) and follow-up tips. \nTo register\, click here \n  \n 
URL:https://phxindcenter.org/event/aceing-the-interview-29/
END:VEVENT
BEGIN:VEVENT
DTSTART;TZID=America/Phoenix:20250416T120000
DTEND;TZID=America/Phoenix:20250416T133000
DTSTAMP:20260421T042924
CREATED:20250311T171904Z
LAST-MODIFIED:20250311T171904Z
UID:8853-1744804800-1744810200@phxindcenter.org
SUMMARY:QPR Suicide Prevention Training
DESCRIPTION:QPR Question\, Persuade\, Refer \nThe QPR (Question\, Persuade\, and Refer) Gatekeeper Training for Suicide Prevention is a brief educational program designed to teach “gatekeepers”–those who are strategically positioned to recognize and refer someone at risk of suicide (e.g.\, parents\, friends\, neighbors\, teachers\, coaches\, caseworkers\, police officers) — the warning signs of a suicide crisis and how to respond by following three steps: \n• Question the individual’s desire or intent regarding suicide\n• Persuade the person to seek and accept help\n• Refer the person to appropriate resources \n\nRegister Today: Click here\nDate: Wednesday\, April 16 \nTime: 12:00 – 1:30 PM\nLocation: Virtually on Zoom
URL:https://phxindcenter.org/event/qpr-suicide-prevention-training-5/
END:VEVENT
BEGIN:VEVENT
DTSTART;TZID=America/Phoenix:20250416T140000
DTEND;TZID=America/Phoenix:20250416T150000
DTSTAMP:20260421T042924
CREATED:20250312T154234Z
LAST-MODIFIED:20250312T154238Z
UID:8874-1744812000-1744815600@phxindcenter.org
SUMMARY:Workforce Development Orientation
DESCRIPTION:Are you new to our Workforce Development program?  \nSign up for the Workforce Development Orientation! To register\, click here
URL:https://phxindcenter.org/event/workforce-development-orientation-60/
END:VEVENT
END:VCALENDAR