BEGIN:VCALENDAR
VERSION:2.0
PRODID:-// - ECPv6.15.17.1//NONSGML v1.0//EN
CALSCALE:GREGORIAN
METHOD:PUBLISH
X-ORIGINAL-URL:https://phxindcenter.org
X-WR-CALDESC:Events for 
REFRESH-INTERVAL;VALUE=DURATION:PT1H
X-Robots-Tag:noindex
X-PUBLISHED-TTL:PT1H
BEGIN:VTIMEZONE
TZID:America/Phoenix
BEGIN:STANDARD
TZOFFSETFROM:-0700
TZOFFSETTO:-0700
TZNAME:MST
DTSTART:20240101T000000
END:STANDARD
END:VTIMEZONE
BEGIN:VEVENT
DTSTART;TZID=America/Phoenix:20250503T090000
DTEND;TZID=America/Phoenix:20250503T110000
DTSTAMP:20260421T095710
CREATED:20240312T180319Z
LAST-MODIFIED:20250415T214337Z
UID:6275-1746262800-1746270000@phxindcenter.org
SUMMARY:MMIP Awareness Walk
DESCRIPTION:Join the Future Inspired Native American Leaders Youth Council for the annual awareness walk for Missing and Murdered Indigenous People (MMIP). Participants are encouraged to wear red for MMIP. Bring your own posters\, signs\, and images of loved ones. We will also have a poster-making station available on- site. Free MMIP Tee-shirts are available to those who register early and check-in at the event! Tee-shirts will be distributed beginning at 8AM\, first come\, first serve. Join us for this special event to honor our missing and murdered relatives and to bring awareness to our community. Register today: Click here \nFor questions\, call 602-264-6768 or email YouthPrograms@PhxIndCenter.org \nAgenda \n\nRegistration: 8:00 AM – 9:00 AM\nSpeakers: 9:00 – 10:00 AM\nOne-Mile Walk: 10:00 AM – 11:00 AM\n\nEvent Details \n\nDate: Saturday\, May 03\, 2025\nTime: 9:00 AM – 11:00 AM\n Location: Phoenix Indian Center\nAddress: 4041 N. Central Ave. Phoenix\, AZ 85012\n\n 
URL:https://phxindcenter.org/event/mmip-awareness-walk/
END:VEVENT
END:VCALENDAR