BEGIN:VCALENDAR
VERSION:2.0
PRODID:-// - ECPv6.15.17.1//NONSGML v1.0//EN
CALSCALE:GREGORIAN
METHOD:PUBLISH
X-ORIGINAL-URL:https://phxindcenter.org
X-WR-CALDESC:Events for 
REFRESH-INTERVAL;VALUE=DURATION:PT1H
X-Robots-Tag:noindex
X-PUBLISHED-TTL:PT1H
BEGIN:VTIMEZONE
TZID:America/Phoenix
BEGIN:STANDARD
TZOFFSETFROM:-0700
TZOFFSETTO:-0700
TZNAME:MST
DTSTART:20250101T000000
END:STANDARD
END:VTIMEZONE
BEGIN:VEVENT
DTSTART;TZID=America/Phoenix:20260419T090000
DTEND;TZID=America/Phoenix:20260419T150000
DTSTAMP:20260423T055246
CREATED:20260417T170307Z
LAST-MODIFIED:20260417T170307Z
UID:10146-1776589200-1776610800@phxindcenter.org
SUMMARY:The Good Heart Medicine Tour: 'She Cried That Day' Movie Screening
DESCRIPTION:Movie Screening of ‘She Cried That Day’ to raise awareness of the MMIP (Missing and Murdered Indigenous Peoples) crisis across NDN country. The director\, Amanda Erickson will be on site to answer questions\, provide support and care to our community. The screening will be followed by a talking circle facilitated by community advocates and a community art piece. Lunch provided by chef Sandra Miller from Native Kitchen. Join us for an afternoon of community awareness\, food\, and healing activities. \nEvent Details\nDate: April 19\, 2026\nTime: 9:00 AM – 3:00 PM\nLocation: Phoenix Indian Center (4041 N Central Ave\, Building B\, Phoenix\, AZ 85012)\n \nPlease register for this movie screening using the link below. \nClick Here to register. \nFor questions please contact Sahalee Martin: smartin@phxindcenter.org or call 602-264-6768 ext. 251
URL:https://phxindcenter.org/event/the-good-heart-medicine-tour-she-cried-that-day-movie-screening/
END:VEVENT
END:VCALENDAR