BEGIN:VCALENDAR
VERSION:2.0
PRODID:-// - ECPv6.15.17.1//NONSGML v1.0//EN
CALSCALE:GREGORIAN
METHOD:PUBLISH
X-ORIGINAL-URL:https://phxindcenter.org
X-WR-CALDESC:Events for 
REFRESH-INTERVAL;VALUE=DURATION:PT1H
X-Robots-Tag:noindex
X-PUBLISHED-TTL:PT1H
BEGIN:VTIMEZONE
TZID:America/Phoenix
BEGIN:STANDARD
TZOFFSETFROM:-0700
TZOFFSETTO:-0700
TZNAME:MST
DTSTART:20230101T000000
END:STANDARD
END:VTIMEZONE
BEGIN:VEVENT
DTSTART;TZID=America/Phoenix:20240704T080000
DTEND;TZID=America/Phoenix:20240704T170000
DTSTAMP:20260420T020405
CREATED:20240618T184443Z
LAST-MODIFIED:20240618T184518Z
UID:6719-1720080000-1720112400@phxindcenter.org
SUMMARY:July 04 Office Closure
DESCRIPTION:Our office will be closed on July 04 in observance of Independence Day. We will reopen for virtual services on Friday\, July 05. For information about our workshops and programs visit www.phxindcenter.org 
URL:https://phxindcenter.org/event/july-04-office-closure/
END:VEVENT
BEGIN:VEVENT
DTSTART;TZID=America/Phoenix:20240703T173000
DTEND;TZID=America/Phoenix:20240703T193000
DTSTAMP:20260420T020405
CREATED:20240604T181639Z
LAST-MODIFIED:20240604T181639Z
UID:6682-1720027800-1720035000@phxindcenter.org
SUMMARY:Parenting in 2 Worlds
DESCRIPTION:Learn how to better support and empower yourself as a caregiver of an urban American Indian youth. – Enhance parenting skills through culturally relevant activities -Strengthen family communication skills -Learn more about child & youth development -Prevent and reduce risky behaviors in youth. For more information contact the Prevention Services Team at (602) 264-6768. **Please note that all registrants must have individual email addresses in order to confirm registration.” \nDate: June 26\, 2024\nTime: 5:30 PM – 7:30 PM \nLocation: Virtual on Zoom \nRegister: Click here.  \nFor more information\, contact the Prevention Team at 602-264-6768.
URL:https://phxindcenter.org/event/parenting-in-2-worlds-29/
END:VEVENT
BEGIN:VEVENT
DTSTART;TZID=America/Phoenix:20240703T090000
DTEND;TZID=America/Phoenix:20240703T120000
DTSTAMP:20260420T020405
CREATED:20240625T233430Z
LAST-MODIFIED:20240625T233436Z
UID:6724-1719997200-1720008000@phxindcenter.org
SUMMARY:Aceing the Interview
DESCRIPTION:To get the job\, you must “Ace the interview!” To get you ready\, we cover every detail needed to prepare you for your interview. Let’s prepare for and have an effective interview! In this session\, the interview process will be covered from beginning to end. We will address how to get ready for the interview\, how to make a good first impression\, recognize the various types of questions and utilize the STAR technique and a review of the 50 most common interviewing questions. We will also review questions for you to ask the interviewer (a crucial moment in your interview) and follow-up tips.  \nTo register\, click here
URL:https://phxindcenter.org/event/aceing-the-interview-14/
END:VEVENT
BEGIN:VEVENT
DTSTART;TZID=America/Phoenix:20240701T090000
DTEND;TZID=America/Phoenix:20240701T120000
DTSTAMP:20260420T020405
CREATED:20240625T233150Z
LAST-MODIFIED:20240625T233150Z
UID:6723-1719824400-1719835200@phxindcenter.org
SUMMARY:Resume & Cover Letter
DESCRIPTION:Now is a perfect time to get your resume up to date or create one if you haven’t done so. We offer instruction in the construction of the one-page Combination Resume\, the most effective format! In this session we will introduce the purpose of a resume\, how to sell yourself\, tips and types of resumes\, and how to create the resume. A cover letter will be developed to introduce your skills and your resume to the employer. We will also provide a format to list all your references.  \nTo register\, click here
URL:https://phxindcenter.org/event/resume-cover-letter-13/
END:VEVENT
BEGIN:VEVENT
DTSTART;TZID=America/Phoenix:20240628T130000
DTEND;TZID=America/Phoenix:20240628T150000
DTSTAMP:20260420T020405
CREATED:20240510T230006Z
LAST-MODIFIED:20240510T230014Z
UID:6628-1719579600-1719586800@phxindcenter.org
SUMMARY:Job Tips for Ex Offenders
DESCRIPTION:Dealing with potential employers is never an easy task for individuals with criminal records. Overcoming obstacles to employment is part of the focus of this workshop. By removing perceived obstacles\, you can learn to present yourself with a positive attitude and gain the confidence you need for success! The workshop will help individuals with background issues write a resume\, complete a job application and interview with confidence. We also focus on the preparation of how you present the information concerning your background in the interview. To register\, click here!
URL:https://phxindcenter.org/event/job-tips-for-ex-offenders-8/
END:VEVENT
BEGIN:VEVENT
DTSTART;TZID=America/Phoenix:20240628T090000
DTEND;TZID=America/Phoenix:20240628T150000
DTSTAMP:20260420T020405
CREATED:20240612T193107Z
LAST-MODIFIED:20240612T193144Z
UID:6696-1719565200-1719586800@phxindcenter.org
SUMMARY:Living In Two Worlds June Camp
DESCRIPTION:American Indian Middle School youth are invited to join us for our FREE Living in 2 Worlds Summer Camp!\n\nThe Phoenix Indian Center Prevention team will lead fun-filled activities while teaching valuable prevention skills\, and cultural activities. This camp will be offered from 9 AM to 3 PM starting June 17th! Seating is limited. Register by June 18! For more information contact the Prevention Services Team at (602) 264-6768. A Prevention Team Member will contact parents/guardians to complete registration. Sign up today: https://bit.ly/4dyrG9a\n\n\n\nDates: June 17-28 (No class June 19th)\nTime: 9:00 AM to 3:00 PM\, Each Day\nLocation: Clarendon Elementary School\, 1225 W Clarendon Ave\, Phoenix\, AZ 85013
URL:https://phxindcenter.org/event/living-in-two-worlds-june-camp-7/
END:VEVENT
BEGIN:VEVENT
DTSTART;TZID=America/Phoenix:20240627T130000
DTEND;TZID=America/Phoenix:20240627T150000
DTSTAMP:20260420T020405
CREATED:20240510T225917Z
LAST-MODIFIED:20240510T225919Z
UID:6627-1719493200-1719500400@phxindcenter.org
SUMMARY:What Employers Want
DESCRIPTION:Be that ideal employee that employers seek! Learn what employers want in a potential employee and how you can demonstrate these knowledge\, skills and abilities in your resume\, interview and social media. We live in a right to work state where a person can be terminated for any reason. In learning what employers want from an employee\, it helps avoid those areas that can lead to job termination. To register\, click here.
URL:https://phxindcenter.org/event/what-employers-want-15/
END:VEVENT
BEGIN:VEVENT
DTSTART;TZID=America/Phoenix:20240627T090000
DTEND;TZID=America/Phoenix:20240627T150000
DTSTAMP:20260420T020405
CREATED:20240612T192905Z
LAST-MODIFIED:20240612T193033Z
UID:6695-1719478800-1719500400@phxindcenter.org
SUMMARY:Living In Two Worlds June Camp
DESCRIPTION:American Indian Middle School youth are invited to join us for our FREE Living in 2 Worlds Summer Camp!\n\nThe Phoenix Indian Center Prevention team will lead fun-filled activities while teaching valuable prevention skills\, and cultural activities. This camp will be offered from 9 AM to 3 PM starting June 17th! Seating is limited. Register by June 18! For more information contact the Prevention Services Team at (602) 264-6768. A Prevention Team Member will contact parents/guardians to complete registration. Sign up today: https://bit.ly/4dyrG9a\n\n\n\nDates: June 17-28 (No class June 19th)\nTime: 9:00 AM to 3:00 PM\, Each Day\nLocation: Clarendon Elementary School\, 1225 W Clarendon Ave\, Phoenix\, AZ 85013
URL:https://phxindcenter.org/event/living-in-two-worlds-june-camp-6/
END:VEVENT
BEGIN:VEVENT
DTSTART;TZID=America/Phoenix:20240627T090000
DTEND;TZID=America/Phoenix:20240627T100000
DTSTAMP:20260420T020405
CREATED:20240510T225826Z
LAST-MODIFIED:20240510T225829Z
UID:6626-1719478800-1719482400@phxindcenter.org
SUMMARY:Customer Service Skills Workshop
DESCRIPTION:Your customer service skills can make you a valued employee!!! Today’s businesses have a completely different challenge from those in the past because customer expectations for service and value have increased dramatically. During this workshop you will learn the skills and communication strategies employers are looking for in a strong customer service focused employee. To register\, click here.
URL:https://phxindcenter.org/event/customer-service-skills-workshop-4/
END:VEVENT
BEGIN:VEVENT
DTSTART;TZID=America/Phoenix:20240626T173000
DTEND;TZID=America/Phoenix:20240626T193000
DTSTAMP:20260420T020405
CREATED:20240415T234049Z
LAST-MODIFIED:20240604T182018Z
UID:6505-1719423000-1719430200@phxindcenter.org
SUMMARY:Parenting in 2 Worlds
DESCRIPTION:Learn how to better support and empower yourself as a caregiver of an urban American Indian youth. – Enhance parenting skills through culturally relevant activities -Strengthen family communication skills -Learn more about child & youth development -Prevent and reduce risky behaviors in youth. For more information contact the Prevention Services Team at (602) 264-6768. **Please note that all registrants must have individual email addresses in order to confirm registration.” \nDate: June 26\, 2024\nTime: 5:30 PM – 7:30 PM \nLocation: Virtual on Zoom \nRegister: Click here.  \nFor more information\, contact the Prevention Team at 602-264-6768.
URL:https://phxindcenter.org/event/parenting-in-2-worlds-28/
END:VEVENT
BEGIN:VEVENT
DTSTART;TZID=America/Phoenix:20240626T140000
DTEND;TZID=America/Phoenix:20240626T150000
DTSTAMP:20260420T020405
CREATED:20240510T225737Z
LAST-MODIFIED:20240510T225741Z
UID:6625-1719410400-1719414000@phxindcenter.org
SUMMARY:Workforce Development Orientation
DESCRIPTION:Are you new to our Workforce Development program?  \nSign up for the Workforce Development Orientation\, click here to register!
URL:https://phxindcenter.org/event/workforce-development-orientation-27/
END:VEVENT
BEGIN:VEVENT
DTSTART;TZID=America/Phoenix:20240626T090000
DTEND;TZID=America/Phoenix:20240626T150000
DTSTAMP:20260420T020405
CREATED:20240612T232520Z
LAST-MODIFIED:20240612T232520Z
UID:6708-1719392400-1719414000@phxindcenter.org
SUMMARY:Living In Two Worlds June Camp
DESCRIPTION:American Indian Middle School youth are invited to join us for our FREE Living in 2 Worlds Summer Camp!\n\nThe Phoenix Indian Center Prevention team will lead fun-filled activities while teaching valuable prevention skills\, and cultural activities. This camp will be offered from 9 AM to 3 PM starting June 17th! Seating is limited. Register by June 18! For more information contact the Prevention Services Team at (602) 264-6768. A Prevention Team Member will contact parents/guardians to complete registration. Sign up today: https://bit.ly/4dyrG9a\n\n\n\nDates: June 17-28 (No class June 19th)\nTime: 9:00 AM to 3:00 PM\, Each Day\nLocation: Clarendon Elementary School\, 1225 W Clarendon Ave\, Phoenix\, AZ 85013
URL:https://phxindcenter.org/event/living-in-two-worlds-june-camp-9/
END:VEVENT
BEGIN:VEVENT
DTSTART;TZID=America/Phoenix:20240625T130000
DTEND;TZID=America/Phoenix:20240625T150000
DTSTAMP:20260420T020405
CREATED:20240510T225647Z
LAST-MODIFIED:20240510T225656Z
UID:6624-1719320400-1719327600@phxindcenter.org
SUMMARY:Job Search Strategies
DESCRIPTION:Create a plan for your job search. In this session you will plan your job search\, schedule your week to be more effective\, develop your own “elevator speech” and learn how to effectively utilize your job search network through using internet and networking skills. You will learn to use the computer to investigate and become familiar with the different types of on-line job boards. In this workshop\, you will also discover how to access the “hidden job market”. We’ll show you how to find jobs which are not online or in the newspaper. Job search engines only constitute 20% of the total jobs out there…we’ll show you how to find the hidden 80%! The more you know about job searching\, the faster you will find employment!! \nTo register\, click here!
URL:https://phxindcenter.org/event/job-search-strategies-14/
END:VEVENT
BEGIN:VEVENT
DTSTART;TZID=America/Phoenix:20240625T090000
DTEND;TZID=America/Phoenix:20240625T150000
DTSTAMP:20260420T020405
CREATED:20240612T181934Z
LAST-MODIFIED:20240612T192729Z
UID:6693-1719306000-1719327600@phxindcenter.org
SUMMARY:Living In Two Worlds June Camp
DESCRIPTION:American Indian Middle School youth are invited to join us for our FREE Living in 2 Worlds Summer Camp!\n\nThe Phoenix Indian Center Prevention team will lead fun-filled activities while teaching valuable prevention skills\, and cultural activities. This camp will be offered from 9 AM to 3 PM starting June 17th! Seating is limited. Register by June 18! For more information contact the Prevention Services Team at (602) 264-6768. A Prevention Team Member will contact parents/guardians to complete registration. Sign up today: https://bit.ly/4dyrG9a\n\n\n\nDates: June 17-28 (No class June 19th)\nTime: 9:00 AM to 3:00 PM\, Each Day\nLocation: Clarendon Elementary School\, 1225 W Clarendon Ave\, Phoenix\, AZ 85013
URL:https://phxindcenter.org/event/living-in-two-worlds-june-camp-4/
END:VEVENT
BEGIN:VEVENT
DTSTART;TZID=America/Phoenix:20240625T090000
DTEND;TZID=America/Phoenix:20240625T103000
DTSTAMP:20260420T020405
CREATED:20240510T225546Z
LAST-MODIFIED:20240510T225549Z
UID:6623-1719306000-1719311400@phxindcenter.org
SUMMARY:Informational Interviews
DESCRIPTION:Want to really find out about a career field or job? The informational interview is a highly effective way of gaining insight into your career interests! Here you will learn what an informational interview is\, how to conduct them and how they can help you network to gain a job. Only 20% of open jobs are listed in online job search engines (indeed\, monster\, careerbuilder). Informational interviews can help you gain access to the 80% of jobs not advertised. This is a must workshop for those wanting to accelerate their job search. \nTo register\, click here!
URL:https://phxindcenter.org/event/informational-interviews-14/
END:VEVENT
BEGIN:VEVENT
DTSTART;TZID=America/Phoenix:20240624T090000
DTEND;TZID=America/Phoenix:20240624T150000
DTSTAMP:20260420T020405
CREATED:20240612T192828Z
LAST-MODIFIED:20240612T192833Z
UID:6694-1719219600-1719241200@phxindcenter.org
SUMMARY:Living In Two Worlds June Camp
DESCRIPTION:American Indian Middle School youth are invited to join us for our FREE Living in 2 Worlds Summer Camp!\n\nThe Phoenix Indian Center Prevention team will lead fun-filled activities while teaching valuable prevention skills\, and cultural activities. This camp will be offered from 9 AM to 3 PM starting June 17th! Seating is limited. Register by June 18! For more information contact the Prevention Services Team at (602) 264-6768. A Prevention Team Member will contact parents/guardians to complete registration. Sign up today: https://bit.ly/4dyrG9a\n\n\n\nDates: June 17-28 (No class June 19th)\nTime: 9:00 AM to 3:00 PM\, Each Day\nLocation: Clarendon Elementary School\, 1225 W Clarendon Ave\, Phoenix\, AZ 85013
URL:https://phxindcenter.org/event/living-in-two-worlds-june-camp-5/
END:VEVENT
BEGIN:VEVENT
DTSTART;TZID=America/Phoenix:20240622T100000
DTEND;TZID=America/Phoenix:20240622T160000
DTSTAMP:20260420T020405
CREATED:20240509T182025Z
LAST-MODIFIED:20240524T182417Z
UID:6603-1719050400-1719072000@phxindcenter.org
SUMMARY:Community GONA (Gathering Of Native Americans)
DESCRIPTION:This FREE workshop is open to all community members 15 years & older. This GONA will focus on our Two Spirit and LGBTQ+ people but is open to all. Participants will explore the four cultural components of embracing community & healing: belonging\, mastery\, interdependence & generosity. To register\, click here \nDate: Saturday\, June 22 \nTime: 10:00 AM – 4:00 PM \nLocation: Phoenix Indian School Visitors Center\, 300 E. Indian School Road\, Phoenix AZ\, 85012 \nAge Range: 15 years and up \n  \n  \n 
URL:https://phxindcenter.org/event/community-gona-gathering-of-native-americans-9/
END:VEVENT
BEGIN:VEVENT
DTSTART;VALUE=DATE:20240622
DTEND;VALUE=DATE:20240623
DTSTAMP:20260420T020405
CREATED:20240320T161939Z
LAST-MODIFIED:20240503T223802Z
UID:6302-1719014400-1719100799@phxindcenter.org
SUMMARY:ASU Inspire
DESCRIPTION:ASU Inspire\n\n\nThe application for ASU INSPIRE 2024 is now open! This annual no-cost\, week-long\, college readiness program is open to American Indian students. The program will take place June 16th – 22nd\, 2024 at the ASU Tempe Campus. Participants will focus on building academic and personal success through culturally relevant\, project-based learning while connecting with other Native students\, staff and faculty. The deadline is April 22nd. Apply today: https://eoss.asu.edu/access/programs/summer/inspire \n\nThe Phoenix Indian Center is excited to collaborate once again with Access ASU and the Office of the President American Indian Initiatives at ASU\, for this outstanding program! \n\nFor more information email Sahmie Joshevama at Sahmie.Joshevama@asu.edu
URL:https://phxindcenter.org/event/asu-inspire-7/
END:VEVENT
BEGIN:VEVENT
DTSTART;TZID=America/Phoenix:20240621T090000
DTEND;TZID=America/Phoenix:20240621T150000
DTSTAMP:20260420T020405
CREATED:20240612T232330Z
LAST-MODIFIED:20240612T232336Z
UID:6707-1718960400-1718982000@phxindcenter.org
SUMMARY:Living In Two Worlds June Camp
DESCRIPTION:American Indian Middle School youth are invited to join us for our FREE Living in 2 Worlds Summer Camp!\n\nThe Phoenix Indian Center Prevention team will lead fun-filled activities while teaching valuable prevention skills\, and cultural activities. This camp will be offered from 9 AM to 3 PM starting June 17th! Seating is limited. Register by June 18! For more information contact the Prevention Services Team at (602) 264-6768. A Prevention Team Member will contact parents/guardians to complete registration. Sign up today: https://bit.ly/4dyrG9a\n\n\n\nDates: June 17-28 (No class June 19th)\nTime: 9:00 AM to 3:00 PM\, Each Day\nLocation: Clarendon Elementary School\, 1225 W Clarendon Ave\, Phoenix\, AZ 85013
URL:https://phxindcenter.org/event/living-in-two-worlds-june-camp-8/
END:VEVENT
BEGIN:VEVENT
DTSTART;VALUE=DATE:20240621
DTEND;VALUE=DATE:20240622
DTSTAMP:20260420T020405
CREATED:20240320T161921Z
LAST-MODIFIED:20240320T161921Z
UID:6301-1718928000-1719014399@phxindcenter.org
SUMMARY:ASU Inspire
DESCRIPTION:ASU Inspire\n\n\nThe application for ASU INSPIRE 2024 is now open! This annual no-cost\, week-long\, college readiness program is open to American Indian students. The program will take place June 16th – 22nd\, 2024 at the ASU Tempe Campus. Participants will focus on building academic and personal success through culturally relevant\, project-based learning while connecting with other Native students\, staff and faculty. The deadline is April 22nd. Apply today: https://eoss.asu.edu/access/programs/summer/inspire \n\nThe Phoenix Indian Center is excited to collaborate once again with Access ASU and the Office of the President American Indian Initiatives at ASU\, for this outstanding program! \n\nFor more information email Sahmie Joshevama at Sahmie.Joshevama@asu.edu
URL:https://phxindcenter.org/event/asu-inspire-6/
END:VEVENT
BEGIN:VEVENT
DTSTART;TZID=America/Phoenix:20240620T090000
DTEND;TZID=America/Phoenix:20240620T150000
DTSTAMP:20260420T020405
CREATED:20240612T181848Z
LAST-MODIFIED:20240612T181857Z
UID:6692-1718874000-1718895600@phxindcenter.org
SUMMARY:Living In Two Worlds June Camp
DESCRIPTION:American Indian Middle School youth are invited to join us for our FREE Living in 2 Worlds Summer Camp!\n\nThe Phoenix Indian Center Prevention team will lead fun-filled activities while teaching valuable prevention skills\, and cultural activities. This camp will be offered from 9 AM to 3 PM starting June 17th! Seating is limited. Register by June 18! For more information contact the Prevention Services Team at (602) 264-6768. A Prevention Team Member will contact parents/guardians to complete registration. Sign up today: https://bit.ly/4dyrG9a\n\n\n\nDates: June 17-28 (No class June 19th)\nTime: 9:00 AM to 3:00 PM\, Each Day\nLocation: Clarendon Elementary School\, 1225 W Clarendon Ave\, Phoenix\, AZ 85013
URL:https://phxindcenter.org/event/living-in-two-worlds-june-camp-3/
END:VEVENT
BEGIN:VEVENT
DTSTART;VALUE=DATE:20240620
DTEND;VALUE=DATE:20240621
DTSTAMP:20260420T020405
CREATED:20240320T161902Z
LAST-MODIFIED:20240320T161902Z
UID:6300-1718841600-1718927999@phxindcenter.org
SUMMARY:ASU Inspire
DESCRIPTION:ASU Inspire\n\n\nThe application for ASU INSPIRE 2024 is now open! This annual no-cost\, week-long\, college readiness program is open to American Indian students. The program will take place June 16th – 22nd\, 2024 at the ASU Tempe Campus. Participants will focus on building academic and personal success through culturally relevant\, project-based learning while connecting with other Native students\, staff and faculty. The deadline is April 22nd. Apply today: https://eoss.asu.edu/access/programs/summer/inspire \n\nThe Phoenix Indian Center is excited to collaborate once again with Access ASU and the Office of the President American Indian Initiatives at ASU\, for this outstanding program! \n\nFor more information email Sahmie Joshevama at Sahmie.Joshevama@asu.edu
URL:https://phxindcenter.org/event/asu-inspire-5/
END:VEVENT
BEGIN:VEVENT
DTSTART;TZID=America/Phoenix:20240619T160000
DTEND;TZID=America/Phoenix:20240619T190000
DTSTAMP:20260420T020405
CREATED:20240614T171202Z
LAST-MODIFIED:20240614T171215Z
UID:6710-1718812800-1718823600@phxindcenter.org
SUMMARY:Voter Registration At Hope's Frybread
DESCRIPTION:We are hosting a Navajo Nation and Maricopa County Voter Registration Drive at Hope’s Frybread\, 144 S. Mesa Drive #Suite E Mesa\, AZ 85210\, on Wednesday\, June 19th from 4 – 7 PM. Stop by and get registered and order a meal from Hope for this Juneteenth event. Get involved\, and let your voice be heard\, and support a local native business owner! \nFor information\, contact June Shorthair at 602-264-6768 or email jshorthair@phxindcenter.org \nDate: Wednesday\, June 19 \nTime: 4:00 PM – 7:00 PM \nLocation: Hope’s Frybread\, 144 S. Mesa Drive #Suite E Mesa\, AZ 85210
URL:https://phxindcenter.org/event/voter-registration-at-hopes-frybread/
END:VEVENT
BEGIN:VEVENT
DTSTART;TZID=America/Phoenix:20240619T080000
DTEND;TZID=America/Phoenix:20240619T170000
DTSTAMP:20260420T020405
CREATED:20240614T171837Z
LAST-MODIFIED:20240614T172036Z
UID:6711-1718784000-1718816400@phxindcenter.org
SUMMARY:Juneteenth Holiday Closure
DESCRIPTION:Our office will be closed on Wednesday\, June 19th in observance of the Juneteenth Holiday. We will reopen on Thursday\, June 20th for virtual services as our office is still under renovation and is not open to the public. For information call 602-264-6768 or visit PhxIndCenter.org 
URL:https://phxindcenter.org/event/juneteenth-holiday-closure/
END:VEVENT
BEGIN:VEVENT
DTSTART;VALUE=DATE:20240619
DTEND;VALUE=DATE:20240620
DTSTAMP:20260420T020405
CREATED:20240320T161841Z
LAST-MODIFIED:20240320T161841Z
UID:6299-1718755200-1718841599@phxindcenter.org
SUMMARY:ASU Inspire
DESCRIPTION:ASU Inspire\n\n\nThe application for ASU INSPIRE 2024 is now open! This annual no-cost\, week-long\, college readiness program is open to American Indian students. The program will take place June 16th – 22nd\, 2024 at the ASU Tempe Campus. Participants will focus on building academic and personal success through culturally relevant\, project-based learning while connecting with other Native students\, staff and faculty. The deadline is April 22nd. Apply today: https://eoss.asu.edu/access/programs/summer/inspire \n\nThe Phoenix Indian Center is excited to collaborate once again with Access ASU and the Office of the President American Indian Initiatives at ASU\, for this outstanding program! \n\nFor more information email Sahmie Joshevama at Sahmie.Joshevama@asu.edu
URL:https://phxindcenter.org/event/asu-inspire-4/
END:VEVENT
BEGIN:VEVENT
DTSTART;TZID=America/Phoenix:20240618T090000
DTEND;TZID=America/Phoenix:20240618T150000
DTSTAMP:20260420T020405
CREATED:20240612T181639Z
LAST-MODIFIED:20240612T181803Z
UID:6691-1718701200-1718722800@phxindcenter.org
SUMMARY:Living In Two Worlds June Camp
DESCRIPTION:American Indian Middle School youth are invited to join us for our FREE Living in 2 Worlds Summer Camp!\n\nThe Phoenix Indian Center Prevention team will lead fun-filled activities while teaching valuable prevention skills\, and cultural activities. This camp will be offered from 9 AM to 3 PM starting June 17th! Seating is limited. Register by June 18! For more information contact the Prevention Services Team at (602) 264-6768. A Prevention Team Member will contact parents/guardians to complete registration. Sign up today: https://bit.ly/4dyrG9a\n\n\n\nDates: June 17-28 (No class June 19th)\nTime: 9:00 AM to 3:00 PM\, Each Day\nLocation: Clarendon Elementary School\, 1225 W Clarendon Ave\, Phoenix\, AZ 85013
URL:https://phxindcenter.org/event/living-in-two-worlds-june-camp-2/
END:VEVENT
BEGIN:VEVENT
DTSTART;VALUE=DATE:20240618
DTEND;VALUE=DATE:20240619
DTSTAMP:20260420T020405
CREATED:20240320T161814Z
LAST-MODIFIED:20240320T161821Z
UID:6298-1718668800-1718755199@phxindcenter.org
SUMMARY:ASU Inspire
DESCRIPTION:ASU Inspire\n\n\nThe application for ASU INSPIRE 2024 is now open! This annual no-cost\, week-long\, college readiness program is open to American Indian students. The program will take place June 16th – 22nd\, 2024 at the ASU Tempe Campus. Participants will focus on building academic and personal success through culturally relevant\, project-based learning while connecting with other Native students\, staff and faculty. The deadline is April 22nd. Apply today: https://eoss.asu.edu/access/programs/summer/inspire \n\nThe Phoenix Indian Center is excited to collaborate once again with Access ASU and the Office of the President American Indian Initiatives at ASU\, for this outstanding program! \n\nFor more information email Sahmie Joshevama at Sahmie.Joshevama@asu.edu
URL:https://phxindcenter.org/event/asu-inspire-3/
END:VEVENT
BEGIN:VEVENT
DTSTART;TZID=America/Phoenix:20240617T090000
DTEND;TZID=America/Phoenix:20240617T150000
DTSTAMP:20260420T020405
CREATED:20240612T181543Z
LAST-MODIFIED:20240612T181558Z
UID:6690-1718614800-1718636400@phxindcenter.org
SUMMARY:Living In Two Worlds June Camp
DESCRIPTION:American Indian Middle School youth are invited to join us for our FREE Living in 2 Worlds Summer Camp!\n\nThe Phoenix Indian Center Prevention team will lead fun-filled activities while teaching valuable prevention skills\, and cultural activities. This camp will be offered from 9 AM to 3 PM starting June 17th! Seating is limited. Register by June 18! For more information contact the Prevention Services Team at (602) 264-6768. A Prevention Team Member will contact parents/guardians to complete registration. Sign up today: https://bit.ly/4dyrG9a\n\n\n\nDates: June 17-28 (No class June 19th)\nTime: 9:00 AM to 3:00 PM\, Each Day\nLocation: Clarendon Elementary School\, 1225 W Clarendon Ave\, Phoenix\, AZ 85013
URL:https://phxindcenter.org/event/living-in-two-worlds-june-camp/
END:VEVENT
BEGIN:VEVENT
DTSTART;TZID=America/Phoenix:20240617T090000
DTEND;TZID=America/Phoenix:20240617T120000
DTSTAMP:20260420T020405
CREATED:20240510T225244Z
LAST-MODIFIED:20240510T225247Z
UID:6620-1718614800-1718625600@phxindcenter.org
SUMMARY:Resume & Cover Letter
DESCRIPTION:Now is a perfect time to get your resume up to date or create one if you haven’t done so. We offer instruction in the construction of the one-page Combination Resume\, the most effective format! In this session we will introduce the purpose of a resume\, how to sell yourself\, tips and types of resumes\, and how to create the resume. A cover letter will be developed to introduce your skills and your resume to the employer. We will also provide a format to list all your references. To register\, click here!
URL:https://phxindcenter.org/event/resume-cover-letter-12/
END:VEVENT
BEGIN:VEVENT
DTSTART;VALUE=DATE:20240617
DTEND;VALUE=DATE:20240618
DTSTAMP:20260420T020405
CREATED:20240320T161611Z
LAST-MODIFIED:20240320T161611Z
UID:6297-1718582400-1718668799@phxindcenter.org
SUMMARY:ASU Inspire
DESCRIPTION:ASU Inspire\n\n\nThe application for ASU INSPIRE 2024 is now open! This annual no-cost\, week-long\, college readiness program is open to American Indian students. The program will take place June 16th – 22nd\, 2024 at the ASU Tempe Campus. Participants will focus on building academic and personal success through culturally relevant\, project-based learning while connecting with other Native students\, staff and faculty. The deadline is April 22nd. Apply today: https://eoss.asu.edu/access/programs/summer/inspire \n\nThe Phoenix Indian Center is excited to collaborate once again with Access ASU and the Office of the President American Indian Initiatives at ASU\, for this outstanding program! \n\nFor more information email Sahmie Joshevama at Sahmie.Joshevama@asu.edu
URL:https://phxindcenter.org/event/asu-inspire-2/
END:VEVENT
END:VCALENDAR