BEGIN:VCALENDAR
VERSION:2.0
PRODID:-// - ECPv6.15.17.1//NONSGML v1.0//EN
CALSCALE:GREGORIAN
METHOD:PUBLISH
X-ORIGINAL-URL:https://phxindcenter.org
X-WR-CALDESC:Events for 
REFRESH-INTERVAL;VALUE=DURATION:PT1H
X-Robots-Tag:noindex
X-PUBLISHED-TTL:PT1H
BEGIN:VTIMEZONE
TZID:America/Phoenix
BEGIN:STANDARD
TZOFFSETFROM:-0700
TZOFFSETTO:-0700
TZNAME:MST
DTSTART:20230101T000000
END:STANDARD
END:VTIMEZONE
BEGIN:VEVENT
DTSTART;TZID=America/Phoenix:20240207T090000
DTEND;TZID=America/Phoenix:20240207T120000
DTSTAMP:20260423T041823
CREATED:20231229T211458Z
LAST-MODIFIED:20231229T211458Z
UID:6095-1707296400-1707307200@phxindcenter.org
SUMMARY:Aceing The Interview
DESCRIPTION:To get the job\, you must “Ace the interview!” To get you ready\, we cover every detail needed to prepare you for your interview. Let’s prepare for and have an effective interview! In this session\, the interview process will be covered from beginning to end. We will address how to get ready for the interview\, how to make a good first impression\, recognize the various types of questions and utilize the STAR technique and a review of the 50 most common interviewing questions. We will also review questions for you to ask the interviewer (a crucial moment in your interview) and follow-up tips! To register\, click here. 
URL:https://phxindcenter.org/event/aceing-the-interview-5/
END:VEVENT
BEGIN:VEVENT
DTSTART;TZID=America/Phoenix:20240208T090000
DTEND;TZID=America/Phoenix:20240208T100000
DTSTAMP:20260423T041823
CREATED:20231229T211553Z
LAST-MODIFIED:20231229T211636Z
UID:6098-1707382800-1707386400@phxindcenter.org
SUMMARY:Customer Service
DESCRIPTION:Your customer service skills can make you a valued employee!!! Today’s businesses have a completely different challenge from those in the past because customer expectations for service and value have increased dramatically. During this workshop you will learn the skills and communication strategies employers are looking for in a strong customer service focused employee. \nRegister by clicking here. 
URL:https://phxindcenter.org/event/customer-service-5/
END:VEVENT
BEGIN:VEVENT
DTSTART;TZID=America/Phoenix:20240208T130000
DTEND;TZID=America/Phoenix:20240208T150000
DTSTAMP:20260423T041823
CREATED:20231229T211724Z
LAST-MODIFIED:20231229T211728Z
UID:6099-1707397200-1707404400@phxindcenter.org
SUMMARY:What Employers Want
DESCRIPTION:Be that ideal employee that employers seek! Learn what employers want in a potential employee and how you can demonstrate these knowledge\, skills and abilities in your resume\, interview and social media. We live in a right to work state where a person can be terminated for any reason. In learning what employers want from an employee\, it helps avoid those areas that can lead to job termination. Register by clicking here. 
URL:https://phxindcenter.org/event/what-employers-want-6/
END:VEVENT
BEGIN:VEVENT
DTSTART;TZID=America/Phoenix:20240208T173000
DTEND;TZID=America/Phoenix:20240208T193000
DTSTAMP:20260423T041823
CREATED:20240125T235950Z
LAST-MODIFIED:20240126T161232Z
UID:6161-1707413400-1707420600@phxindcenter.org
SUMMARY:Parenting in 2 Worlds
DESCRIPTION:Join us for our virtual Parenting in 2 Worlds workshop! P2W is open to all American Indian Caregivers\, including parents\, grandparents\, aunties\, uncles\, foster parents/guardians\, etc. Parenting in 2 Worlds will be offered virtually on Zoom every Thursday\, starting Feb. 01. For more information\, contact the Prevention Team at 602-264-6768. Registration closes Feb 15.  \nTo register\, click here. 
URL:https://phxindcenter.org/event/parenting-in-2-worlds-8/
END:VEVENT
BEGIN:VEVENT
DTSTART;TZID=America/Phoenix:20240213T090000
DTEND;TZID=America/Phoenix:20240213T103000
DTSTAMP:20260423T041823
CREATED:20231229T211821Z
LAST-MODIFIED:20231229T211825Z
UID:6100-1707814800-1707820200@phxindcenter.org
SUMMARY:Informational Interviews
DESCRIPTION:Want to really find out about a career field or job? The informational interview is a highly effective way of gaining insight into your career interests! Here you will learn what an informational interview is\, how to conduct them and how they can help you network to gain a job. Only 20% of open jobs are listed in online job search engines (indeed\, monster\, careerbuilder). Informational interviews can help you gain access to the 80% of jobs not advertised. This is a must workshop for those wanting to accelerate their job search. Register by clicking here.
URL:https://phxindcenter.org/event/informational-interviews-5/
END:VEVENT
BEGIN:VEVENT
DTSTART;TZID=America/Phoenix:20240213T130000
DTEND;TZID=America/Phoenix:20240213T150000
DTSTAMP:20260423T041823
CREATED:20231229T211918Z
LAST-MODIFIED:20231229T211918Z
UID:6101-1707829200-1707836400@phxindcenter.org
SUMMARY:Job Search Strategies
DESCRIPTION:Create a plan for your job search. In this session you will plan your job search\, schedule your week to be more effective\, develop your own “elevator speech” and learn how to effectively utilize your job search network through using internet and networking skills. You will learn to use the computer to investigate and become familiar with the different types of on-line job boards. In this workshop\, you will also discover how to access the “hidden job market”. We’ll show you how to find jobs which are not online or in the newspaper. Job search engines only constitute 20% of the total jobs out there…we’ll show you how to find the hidden 80%! The more you know about job searching\, the faster you will find employment! To register click here. 
URL:https://phxindcenter.org/event/job-search-strategies-5/
END:VEVENT
BEGIN:VEVENT
DTSTART;TZID=America/Phoenix:20240213T173000
DTEND;TZID=America/Phoenix:20240213T193000
DTSTAMP:20260423T041823
CREATED:20240110T222107Z
LAST-MODIFIED:20240131T001157Z
UID:6137-1707845400-1707852600@phxindcenter.org
SUMMARY:Parenting in 2 Worlds
DESCRIPTION:Join us for our virtual Parenting in 2 Worlds workshop! P2W is open to all American Indian Caregivers\, including parents\, grandparents\, aunties\, uncles\, foster parents/guardians\, etc. Parenting in 2 Worlds will be offered virtually on Zoom every Tuesday starting Feb. 13. For more information\, contact the Prevention Team at 602-264-6768. Registration closes Feb. 27.  \nTo register\, click here. 
URL:https://phxindcenter.org/event/parenting-in-2-worlds-10/
END:VEVENT
BEGIN:VEVENT
DTSTART;TZID=America/Phoenix:20240215T083000
DTEND;TZID=America/Phoenix:20240215T093000
DTSTAMP:20260423T041823
CREATED:20240203T000045Z
LAST-MODIFIED:20240203T162847Z
UID:6186-1707985800-1707989400@phxindcenter.org
SUMMARY:Community Leaders Breakfast
DESCRIPTION:Community leaders and locals are invited to join us for our virtual Community Leaders Breakfast on Feb. 15. For questions\, call 602-264-6768. \nTo register for the event\, click here.   \nLocation: SRP Heritage Center \nAddress: 1500 North Mill Avenue Tempe\, AZ 85288
URL:https://phxindcenter.org/event/community-leaders-breakfast-2/
END:VEVENT
BEGIN:VEVENT
DTSTART;TZID=America/Phoenix:20240215T173000
DTEND;TZID=America/Phoenix:20240215T190000
DTSTAMP:20260423T041823
CREATED:20231218T212839Z
LAST-MODIFIED:20240131T173438Z
UID:6075-1708018200-1708023600@phxindcenter.org
SUMMARY:RX 360: Safeguarding Medication 101
DESCRIPTION:Safeguarding Medication  \nAre your prescription meds too easily accessible in your medicine cabinet at home? Safeguarding Medications 101 brings awareness to the harmful effects of prescription drugs. We’ll give parents\, grandparents\, and community members tips for preventing their fatal overdoses. While medication is meant for healing\, when in the wrong hands\, it can lead to lifelong problems of substance abuse\, addiction and death. Join us to learn easy solutions to reclaim our American Indian communities. In person event at Phoenix Indian Center (Dinner will be provided).  \nTo register\, click here. 
URL:https://phxindcenter.org/event/safeguarding-medication-101-4/
END:VEVENT
BEGIN:VEVENT
DTSTART;TZID=America/Phoenix:20240215T173000
DTEND;TZID=America/Phoenix:20240215T193000
DTSTAMP:20260423T041823
CREATED:20240126T000113Z
LAST-MODIFIED:20240126T161315Z
UID:6162-1708018200-1708025400@phxindcenter.org
SUMMARY:Parenting in 2 Worlds
DESCRIPTION:Join us for our virtual Parenting in 2 Worlds workshop! P2W is open to all American Indian Caregivers\, including parents\, grandparents\, aunties\, uncles\, foster parents/guardians\, etc. Parenting in 2 Worlds will be offered virtually on Zoom every Thursday\, starting Feb. 01. For more information\, contact the Prevention Team at 602-264-6768. Registration closes Feb 15.  \nTo register\, click here. 
URL:https://phxindcenter.org/event/parenting-in-2-worlds-11/
END:VEVENT
BEGIN:VEVENT
DTSTART;TZID=America/Phoenix:20240216T090000
DTEND;TZID=America/Phoenix:20240216T110000
DTSTAMP:20260423T041823
CREATED:20240212T234710Z
LAST-MODIFIED:20240212T234710Z
UID:6198-1708074000-1708081200@phxindcenter.org
SUMMARY:AmeriCorps Elder Breakfast Recruitment Information Session
DESCRIPTION:The Phoenix Indian Center recently received funding from AmeriCorps to work with elders and youth in our local community to share knowledge\, culture and language. We want to share the work of AmeriCorps and the Phoenix Indian Center in hopes you will join us! You are welcome to bring a plus one for the breakfast but PLEASE only REGISTER yourself. Questions about your additional person will be asked about in the registration questions. For more information\, please contact Language and Culture Specialist\, Iyona Freeland at 602-264-6768 or ifreeland@phxindcenter.org \nTo register\, click here.   \nDate: Friday\, Feb. 16 \nTime: 9 AM – 11 AM  \nLocation: Phoenix Indian Center\, 4520 N. Central Ave. Ste. 250\, Phoenix\, AZ 85012
URL:https://phxindcenter.org/event/americorps-elder-breakfast-recruitment-information-session-2/
END:VEVENT
BEGIN:VEVENT
DTSTART;TZID=America/Phoenix:20240219T080000
DTEND;TZID=America/Phoenix:20240219T170000
DTSTAMP:20260423T041823
CREATED:20240117T170540Z
LAST-MODIFIED:20240117T170540Z
UID:6145-1708329600-1708362000@phxindcenter.org
SUMMARY:Presidents' Day
DESCRIPTION:Our office is closed on Monday\, Feb. 19 in observance of Presidents’ Day. We will reopen on Tuesday\, Feb. 20.
URL:https://phxindcenter.org/event/presidents-day/
END:VEVENT
BEGIN:VEVENT
DTSTART;TZID=America/Phoenix:20240220T173000
DTEND;TZID=America/Phoenix:20240220T193000
DTSTAMP:20260423T041823
CREATED:20240126T000407Z
LAST-MODIFIED:20240131T001906Z
UID:6164-1708450200-1708457400@phxindcenter.org
SUMMARY:Parenting in 2 Worlds
DESCRIPTION:Join us for our virtual Parenting in 2 Worlds workshop! P2W is open to all American Indian Caregivers\, including parents\, grandparents\, aunties\, uncles\, foster parents/guardians\, etc. Parenting in 2 Worlds will be offered virtually on Zoom every Tuesday starting Feb. 13. For more information\, contact the Prevention Team at 602-264-6768. Registration closes Feb. 27.  \nTo register\, click here. 
URL:https://phxindcenter.org/event/parenting-in-2-worlds-12/
END:VEVENT
BEGIN:VEVENT
DTSTART;TZID=America/Phoenix:20240221T090000
DTEND;TZID=America/Phoenix:20240221T120000
DTSTAMP:20260423T041823
CREATED:20231229T212002Z
LAST-MODIFIED:20231229T212002Z
UID:6102-1708506000-1708516800@phxindcenter.org
SUMMARY:Aceing The Interview
DESCRIPTION:To get the job\, you must “Ace the interview!” To get you ready\, we cover every detail needed to prepare you for your interview. Let’s prepare for and have an effective interview! In this session\, the interview process will be covered from beginning to end. We will address how to get ready for the interview\, how to make a good first impression\, recognize the various types of questions and utilize the STAR technique and a review of the 50 most common interviewing questions. We will also review questions for you to ask the interviewer (a crucial moment in your interview) and follow-up tips! To register\, click here. 
URL:https://phxindcenter.org/event/aceing-the-interview-6/
END:VEVENT
BEGIN:VEVENT
DTSTART;TZID=America/Phoenix:20240221T140000
DTEND;TZID=America/Phoenix:20240221T150000
DTSTAMP:20260423T041823
CREATED:20240215T164113Z
LAST-MODIFIED:20240215T164207Z
UID:6205-1708524000-1708527600@phxindcenter.org
SUMMARY:Workforce Development Orientation
DESCRIPTION:Are you new to our Workforce Development program? \nSign up for the Workforce Development Orientation\, click here. 
URL:https://phxindcenter.org/event/workforce-development-orientation-9/
END:VEVENT
BEGIN:VEVENT
DTSTART;TZID=America/Phoenix:20240222T090000
DTEND;TZID=America/Phoenix:20240222T100000
DTSTAMP:20260423T041823
CREATED:20231229T212103Z
LAST-MODIFIED:20231229T212103Z
UID:6103-1708592400-1708596000@phxindcenter.org
SUMMARY:Customer Service
DESCRIPTION:Your customer service skills can make you a valued employee!!! Today’s businesses have a completely different challenge from those in the past because customer expectations for service and value have increased dramatically. During this workshop you will learn the skills and communication strategies employers are looking for in a strong customer service focused employee. \nRegister by clicking here. 
URL:https://phxindcenter.org/event/customer-service-6/
END:VEVENT
BEGIN:VEVENT
DTSTART;TZID=America/Phoenix:20240222T120000
DTEND;TZID=America/Phoenix:20240222T133000
DTSTAMP:20260423T041823
CREATED:20231229T202333Z
LAST-MODIFIED:20231229T202345Z
UID:6087-1708603200-1708608600@phxindcenter.org
SUMMARY:QPR Suicide Prevention Training
DESCRIPTION:Feb. 22 | 12:00 PM – 1:30 PM                   \nVirtual Lunchtime Learning! The QPR (Question\, Persuade\, and Refer) Gatekeeper Training for Suicide Prevention is a brief educational program designed to teach “gatekeepers”–those who are strategically positioned to recognize and refer someone at risk of suicide (e.g.\, parents\, friends\, neighbors\, teachers\, coaches\, caseworkers\, police officers) — the warning signs of a suicide crisis and how to respond by following three steps: Question the individual’s desire or intent regarding suicide\, Persuade the person to seek and accept help\, Refer the person to appropriate resources. To register\, click here.
URL:https://phxindcenter.org/event/qpr-suicide-prevention-training-2/
END:VEVENT
BEGIN:VEVENT
DTSTART;TZID=America/Phoenix:20240222T130000
DTEND;TZID=America/Phoenix:20240222T150000
DTSTAMP:20260423T041823
CREATED:20231229T212224Z
LAST-MODIFIED:20231229T212224Z
UID:6104-1708606800-1708614000@phxindcenter.org
SUMMARY:What Employers Want
DESCRIPTION:Be that ideal employee that employers seek! Learn what employers want in a potential employee and how you can demonstrate these knowledge\, skills and abilities in your resume\, interview and social media. We live in a right to work state where a person can be terminated for any reason. In learning what employers want from an employee\, it helps avoid those areas that can lead to job termination. Register by clicking here. 
URL:https://phxindcenter.org/event/what-employers-want-7/
END:VEVENT
BEGIN:VEVENT
DTSTART;TZID=America/Phoenix:20240223T130000
DTEND;TZID=America/Phoenix:20240223T150000
DTSTAMP:20260423T041823
CREATED:20231229T212318Z
LAST-MODIFIED:20231229T212318Z
UID:6105-1708693200-1708700400@phxindcenter.org
SUMMARY:Job Tips for Ex Offenders
DESCRIPTION:Dealing with potential employers is never an easy task for individuals with criminal records. Overcoming obstacles to employment is part of the focus of this workshop. By removing perceived obstacles\, you can learn to present yourself with a positive attitude and gain the confidence you need for success! The workshop will help individuals with background issues write a resume\, complete a job application and interview with confidence. We also focus on the preparation of how you present the information concerning your background in the interview. \nTo register\, click here. 
URL:https://phxindcenter.org/event/job-tips-for-ex-offenders-4/
END:VEVENT
BEGIN:VEVENT
DTSTART;TZID=America/Phoenix:20240227T090000
DTEND;TZID=America/Phoenix:20240227T103000
DTSTAMP:20260423T041823
CREATED:20231229T212415Z
LAST-MODIFIED:20231229T212415Z
UID:6106-1709024400-1709029800@phxindcenter.org
SUMMARY:Informational Interviews
DESCRIPTION:Want to really find out about a career field or job? The informational interview is a highly effective way of gaining insight into your career interests! Here you will learn what an informational interview is\, how to conduct them and how they can help you network to gain a job. Only 20% of open jobs are listed in online job search engines (indeed\, monster\, careerbuilder). Informational interviews can help you gain access to the 80% of jobs not advertised. This is a must workshop for those wanting to accelerate their job search. \nRegister by clicking here.
URL:https://phxindcenter.org/event/informational-interviews-6/
END:VEVENT
BEGIN:VEVENT
DTSTART;TZID=America/Phoenix:20240227T130000
DTEND;TZID=America/Phoenix:20240227T150000
DTSTAMP:20260423T041823
CREATED:20231229T212503Z
LAST-MODIFIED:20231229T212503Z
UID:6107-1709038800-1709046000@phxindcenter.org
SUMMARY:Job Search Strategies
DESCRIPTION:Create a plan for your job search. In this session you will plan your job search\, schedule your week to be more effective\, develop your own “elevator speech” and learn how to effectively utilize your job search network through using internet and networking skills. You will learn to use the computer to investigate and become familiar with the different types of on-line job boards. In this workshop\, you will also discover how to access the “hidden job market”. We’ll show you how to find jobs which are not online or in the newspaper. Job search engines only constitute 20% of the total jobs out there…we’ll show you how to find the hidden 80%! The more you know about job searching\, the faster you will find employment! To register click here. 
URL:https://phxindcenter.org/event/job-search-strategies-6/
END:VEVENT
BEGIN:VEVENT
DTSTART;TZID=America/Phoenix:20240227T140000
DTEND;TZID=America/Phoenix:20240227T160000
DTSTAMP:20260423T041823
CREATED:20231128T220448Z
LAST-MODIFIED:20240110T214027Z
UID:6031-1709042400-1709049600@phxindcenter.org
SUMMARY:UICAZ Monthly Coalition Meeting
DESCRIPTION:The Urban Indian Coalition of Arizona (UICAZ) invites you to attend our monthly coalition meetings! Join our coalition working toward creating positive partnerships within our community for our families and youth! UICAZ meets the 4th Tuesday of every month from 2:00 PM to 4:00 PM. Attend our coalition meetings virtually on Zoom or in-person at the Phoenix Indian Center. The Phoenix Indian Center (4520 N Central Ave #250 Phoenix\, AZ 85012) is located on the 2nd floor of the Native American Community Service Center. Visitor parking is located on the 1st floor of the parking garage \nRegister today\, click here.  \n 
URL:https://phxindcenter.org/event/uicaz-monthly-coalition-meeting-6/
END:VEVENT
BEGIN:VEVENT
DTSTART;TZID=America/Phoenix:20240227T173000
DTEND;TZID=America/Phoenix:20240227T193000
DTSTAMP:20260423T041823
CREATED:20240126T000504Z
LAST-MODIFIED:20240131T001932Z
UID:6165-1709055000-1709062200@phxindcenter.org
SUMMARY:Parenting in 2 Worlds
DESCRIPTION:Join us for our virtual Parenting in 2 Worlds workshop! P2W is open to all American Indian Caregivers\, including parents\, grandparents\, aunties\, uncles\, foster parents/guardians\, etc. Parenting in 2 Worlds will be offered virtually on Zoom every Tuesday starting Feb. 13. For more information\, contact the Prevention Team at 602-264-6768. Registration closes Feb. 27.  \nTo register\, click here. 
URL:https://phxindcenter.org/event/parenting-in-2-worlds-13/
END:VEVENT
BEGIN:VEVENT
DTSTART;TZID=America/Phoenix:20240228T140000
DTEND;TZID=America/Phoenix:20240228T150000
DTSTAMP:20260423T041823
CREATED:20240215T164245Z
LAST-MODIFIED:20240215T164249Z
UID:6206-1709128800-1709132400@phxindcenter.org
SUMMARY:Workforce Development Orientation
DESCRIPTION:Are you new to our Workforce Development program? \nSign up for the Workforce Development Orientation\, click here. 
URL:https://phxindcenter.org/event/workforce-development-orientation-10/
END:VEVENT
BEGIN:VEVENT
DTSTART;TZID=America/Phoenix:20240302T090000
DTEND;TZID=America/Phoenix:20240302T150000
DTSTAMP:20260423T041823
CREATED:20240213T232855Z
LAST-MODIFIED:20240213T232855Z
UID:6200-1709370000-1709391600@phxindcenter.org
SUMMARY:Spring 2024 Indigenous Art & Vendor Market
DESCRIPTION:Over 60 vendors will be on-site! Join us\, and take part in a fun day of shopping and tasting great food from Native American-owned food trucks. \n\nTime/Date: 9 AM – 3 PM on Saturday\, March 02\nLocation: Phoenix Indian Center\, 4520 N. Central Ave. Phoenix\, AZ\nParking & Admission: Free to the public\n*Please note all vendor spots have been filled for this event.
URL:https://phxindcenter.org/event/spring-2024-indigenous-art-vendor-market/
END:VEVENT
BEGIN:VEVENT
DTSTART;TZID=America/Phoenix:20240302T173000
DTEND;TZID=America/Phoenix:20240302T203000
DTSTAMP:20260423T041823
CREATED:20240203T161922Z
LAST-MODIFIED:20240203T161922Z
UID:6187-1709400600-1709411400@phxindcenter.org
SUMMARY:Indigenous Community Fashion Showcase
DESCRIPTION:Join us for the return of our annual Indigenous Community Fashion Showcase! \n“Threads From The Land” serves as our 2024 theme as we highlight Indigenous designers and creatives from Turtle Island who will showcase their work inspired by their culture and community. Join us and our guest em-cees Colton Shone (Diné) Anchor and Reporter for Az Family and Mary Kim Titla (San Carlos Apache) Executive Director of United National Indian Tribal Youth\, Inc. for this special evening. \nReserve your seat today for this special event. Tickets are now on sale\, click here.   \nFor questions about sponsorships or to get more information call us at 602-264-6768.
URL:https://phxindcenter.org/event/indigenous-community-fashion-showcase/
END:VEVENT
BEGIN:VEVENT
DTSTART;TZID=America/Phoenix:20240304T090000
DTEND;TZID=America/Phoenix:20240304T120000
DTSTAMP:20260423T041823
CREATED:20231229T212641Z
LAST-MODIFIED:20231229T212641Z
UID:6108-1709542800-1709553600@phxindcenter.org
SUMMARY:Resume & Cover Letter
DESCRIPTION:Now is a perfect time to get your resume up to date or create one if you haven’t done so. We offer instruction in the construction of the one-page Combination Resume\, the most effective format! In this session we will introduce the purpose of a resume\, how to sell yourself\, tips and types of resumes\, and how to create the resume. A cover letter will be developed to introduce your skills and your resume to the employer. We will also provide a format to list all your references. To register\, click here. 
URL:https://phxindcenter.org/event/resume-cover-letter-5/
END:VEVENT
BEGIN:VEVENT
DTSTART;TZID=America/Phoenix:20240306T090000
DTEND;TZID=America/Phoenix:20240306T120000
DTSTAMP:20260423T041823
CREATED:20231229T212727Z
LAST-MODIFIED:20231229T212755Z
UID:6109-1709715600-1709726400@phxindcenter.org
SUMMARY:Aceing The Interview
DESCRIPTION:To get the job\, you must “Ace the interview!” To get you ready\, we cover every detail needed to prepare you for your interview. Let’s prepare for and have an effective interview! In this session\, the interview process will be covered from beginning to end. We will address how to get ready for the interview\, how to make a good first impression\, recognize the various types of questions and utilize the STAR technique and a review of the 50 most common interviewing questions. We will also review questions for you to ask the interviewer (a crucial moment in your interview) and follow-up tips! To register\, click here. 
URL:https://phxindcenter.org/event/aceing-the-interview-7/
END:VEVENT
BEGIN:VEVENT
DTSTART;TZID=America/Phoenix:20240306T140000
DTEND;TZID=America/Phoenix:20240306T150000
DTSTAMP:20260423T041823
CREATED:20240215T164319Z
LAST-MODIFIED:20240215T164326Z
UID:6207-1709733600-1709737200@phxindcenter.org
SUMMARY:Workforce Development Orientation
DESCRIPTION:Are you new to our Workforce Development program? \nSign up for the Workforce Development Orientation\, click here. 
URL:https://phxindcenter.org/event/workforce-development-orientation-11/
END:VEVENT
BEGIN:VEVENT
DTSTART;TZID=America/Phoenix:20240311T090000
DTEND;TZID=America/Phoenix:20240311T150000
DTSTAMP:20260423T041823
CREATED:20240131T174942Z
LAST-MODIFIED:20240131T175243Z
UID:6178-1710147600-1710169200@phxindcenter.org
SUMMARY:Youth Job Readiness Training Session 1
DESCRIPTION:High School students: Join us for a two-day\, in-person workshop to learn job search. interviewing and workplace skills such as: \n– Acing the Interview\n– Effective Communication\n– Resume Writing\n– And much more! \nJoin us March 11-12\, from 9 AM – 3 PM. Youth will be paid for attending each day they attend. Lunch will be provided. \nSpace is limited and registration fills up quick. To register\, click here.  \n Call us at 602-264-6768 for questions and information.
URL:https://phxindcenter.org/event/youth-job-readiness-training-session-1-2/
END:VEVENT
END:VCALENDAR