BEGIN:VCALENDAR
VERSION:2.0
PRODID:-// - ECPv6.15.17.1//NONSGML v1.0//EN
CALSCALE:GREGORIAN
METHOD:PUBLISH
X-ORIGINAL-URL:https://phxindcenter.org
X-WR-CALDESC:Events for 
REFRESH-INTERVAL;VALUE=DURATION:PT1H
X-Robots-Tag:noindex
X-PUBLISHED-TTL:PT1H
BEGIN:VTIMEZONE
TZID:America/Phoenix
BEGIN:STANDARD
TZOFFSETFROM:-0700
TZOFFSETTO:-0700
TZNAME:MST
DTSTART:20220101T000000
END:STANDARD
END:VTIMEZONE
BEGIN:VEVENT
DTSTART;TZID=America/Phoenix:20231006T090000
DTEND;TZID=America/Phoenix:20231006T130000
DTSTAMP:20260419T052642
CREATED:20230918T231415Z
LAST-MODIFIED:20230918T231422Z
UID:5871-1696582800-1696597200@phxindcenter.org
SUMMARY:Free Legal Assistance: Rights Restoration Workshop
DESCRIPTION:Join us for for our Free Legal Assistance: Rights Restoration Workshop hosted by the ASU Indian Legal Program. This in-person session will be offered to those impacted by felony convictions or marijuana charges. Documents to bring: Any information about convictions\, including court documents. If you don’t have documents\, that’s okay! Come by and learn about resources. For questions call 480-272-0731 or email Joel Edman at jedman@asu.edu.\n\n\nDate: Friday\, Oct. 06\nTime: 9 AM – 1 PM\nLocation: Phoenix Indian Center\, 4520 N. Central Ave. Ste. 250\, Phoenix\, AZ 85012
URL:https://phxindcenter.org/event/free-legal-assistance-rights-restoration-workshop/
END:VEVENT
BEGIN:VEVENT
DTSTART;TZID=America/Phoenix:20231009T080000
DTEND;TZID=America/Phoenix:20231009T170000
DTSTAMP:20260419T052642
CREATED:20230628T220953Z
LAST-MODIFIED:20230628T221009Z
UID:5656-1696838400-1696870800@phxindcenter.org
SUMMARY:Indigenous People's Day
DESCRIPTION:Our offices in Phoenix and Flagstaff will be closed on Monday\, Oct. 09\, 2023 in observance of Indigenous People’s Day. We will reopen on Tuesday\, Oct. 10. For information about our ongoing programs and workshops visit PhxIndCenter.org.
URL:https://phxindcenter.org/event/indigenous-peoples-day/
END:VEVENT
BEGIN:VEVENT
DTSTART;TZID=America/Phoenix:20231010T090000
DTEND;TZID=America/Phoenix:20231010T150000
DTSTAMP:20260419T052642
CREATED:20230922T000723Z
LAST-MODIFIED:20230923T000344Z
UID:5897-1696928400-1696950000@phxindcenter.org
SUMMARY:Youth Job Readiness Training Session 1
DESCRIPTION:High School students: Join us for a two day in-person workshop to introduce high school students to the workforce and teach them workplace skills such as: \n– Acing the Interview\n– Effective Communication\n– Resume Writing\n– And much more! \nAll youth that register and attend the workshop will be paid for their time. Space is limited and registration fills up quick. To register\, click here.  \n Call us at 602-264-6768 for questions and information.
URL:https://phxindcenter.org/event/youth-job-readiness-training-session-1/
END:VEVENT
BEGIN:VEVENT
DTSTART;TZID=America/Phoenix:20231010T160000
DTEND;TZID=America/Phoenix:20231010T173000
DTSTAMP:20260419T052642
CREATED:20230907T002003Z
LAST-MODIFIED:20230907T002003Z
UID:5858-1696953600-1696959000@phxindcenter.org
SUMMARY:Virtual College Tour
DESCRIPTION:Attention American Indian High School Students! Don’t miss out on our fall virtual college tours! Learn more about college admissions\, campus resources\, and support systems for American Indian students while pursuing higher education! Universities that will be featured include the University of Arizona\, Arizona State University\, and Northern Arizona University. Register today\, click here.  \nDate: Tues. October 10th\, 2023  \nTime: 4:00 -5:15 PM \nLocation: Zoom
URL:https://phxindcenter.org/event/virtual-college-tour-2/
END:VEVENT
BEGIN:VEVENT
DTSTART;TZID=America/Phoenix:20231012T090000
DTEND;TZID=America/Phoenix:20231012T150000
DTSTAMP:20260419T052642
CREATED:20230922T001915Z
LAST-MODIFIED:20230922T001932Z
UID:5898-1697101200-1697122800@phxindcenter.org
SUMMARY:Youth Job Readiness Training Session 2
DESCRIPTION:High School students: Join us for a two day in-person workshop to introduce high school students to the workforce and teach them workplace skills such as: \n– Acing the Interview\n– Effective Communication\n– Resume Writing\n– And much more! \nAll youth that register and attend the workshop will be paid for their time. \nSpace is limited and registration fills up quick. Call us at 602-264-6768 for questions and information.
URL:https://phxindcenter.org/event/youth-job-readiness-training-session-2/
END:VEVENT
BEGIN:VEVENT
DTSTART;TZID=America/Phoenix:20231014T080000
DTEND;TZID=America/Phoenix:20231014T100000
DTSTAMP:20260419T052642
CREATED:20230628T221950Z
LAST-MODIFIED:20230628T221950Z
UID:5661-1697270400-1697277600@phxindcenter.org
SUMMARY:2023 Native American Recognition Days Parade
DESCRIPTION:Join us for the annual Native American Recognition Days Parade as local organizations take part and celebrate our local Indigenous community! More details about the event will be announced soon.
URL:https://phxindcenter.org/event/2023-native-american-recognition-days-parade/
END:VEVENT
BEGIN:VEVENT
DTSTART;TZID=America/Phoenix:20231020T180000
DTEND;TZID=America/Phoenix:20231020T210000
DTSTAMP:20260419T052642
CREATED:20230628T205307Z
LAST-MODIFIED:20230628T205315Z
UID:5649-1697824800-1697835600@phxindcenter.org
SUMMARY:40th Annual Silver & Turquoise Ball
DESCRIPTION:The Phoenix Indian Center will host the 40th Annual Silver & Turquoise Ball on Friday\, Oct. 20\, 2023. The signature fundraising event will be held at the Sheraton Downtown Phoenix and our theme this year is “Celebrating Our Voices.” Each year the Silver & Turquoise Ball raises funds for the Center to provide direct services to customers who face daily challenges that include lack of transportation\, food insecurity\, lack of childcare and limited access to health care\, technology\, and the Internet. We hope you can join us in this worthy cause\, and this wonderful evening of art\, music\, food\, and entertainment. For information\, click here. 
URL:https://phxindcenter.org/event/40th-annual-silver-turquoise-ball/
END:VEVENT
BEGIN:VEVENT
DTSTART;TZID=America/Phoenix:20231021T080000
DTEND;TZID=America/Phoenix:20231021T100000
DTSTAMP:20260419T052642
CREATED:20231003T000426Z
LAST-MODIFIED:20231003T000717Z
UID:5912-1697875200-1697882400@phxindcenter.org
SUMMARY:Out Of The Darkness Suicide Prevention Walk
DESCRIPTION:The Urban Indian Coalition of Arizona is participating in this year’s Phoenix Out of the Darkness Community Walk! These walks give people the courage to open up about their own connections to suicide prevention\, and provide a space to promote suicide-safer communities. Friends\, family members\, neighbors\, and coworkers walk side-by-side\, supporting each other and in memory of those we’ve lost. To join the UICAZ – Phoenix Indian Center team\, click here. 
URL:https://phxindcenter.org/event/out-of-the-darkness-suicide-prevention-walk/
END:VEVENT
BEGIN:VEVENT
DTSTART;TZID=America/Phoenix:20231024T140000
DTEND;TZID=America/Phoenix:20231024T160000
DTSTAMP:20260419T052642
CREATED:20230825T200026Z
LAST-MODIFIED:20230825T200030Z
UID:5811-1698156000-1698163200@phxindcenter.org
SUMMARY:UICAZ Monthly Coalition Meeting
DESCRIPTION:The Urban Indian Coalition of Arizona (UICAZ) invites you to attend our monthly coalition meetings! Join our coalition working toward creating positive partnerships within our community for our families and youth! UICAZ meets the 4th Tuesday of every month from 2:00 PM to 4:00 PM. Attend our coalition meetings virtually on Zoom or in-person at the Phoenix Indian Center. The Phoenix Indian Center (4520 N Central Ave #250 Phoenix\, AZ 85012) is located on the 2nd floor of the Native American Community Service Center. Visitor parking is located on the 1st floor of the parking garage. Click here to register. 
URL:https://phxindcenter.org/event/uicaz-monthly-coalition-meeting-3/
END:VEVENT
BEGIN:VEVENT
DTSTART;TZID=America/Phoenix:20231028T090000
DTEND;TZID=America/Phoenix:20231028T150000
DTSTAMP:20260419T052642
CREATED:20230922T002303Z
LAST-MODIFIED:20230923T000249Z
UID:5900-1698483600-1698505200@phxindcenter.org
SUMMARY:Youth Job Readiness Training Session 3
DESCRIPTION:High School students: Join us for a two day in-person workshop to introduce high school students to the workforce and teach them workplace skills such as: \n– Acing the Interview\n– Effective Communication\n– Resume Writing\n– And much more! \nAll youth that register and attend the workshop will be paid for their time. \nSpace is limited and registration fills up quick. To register\, click here. \nCall us at 602-264-6768 for questions and information.
URL:https://phxindcenter.org/event/youth-job-readiness-training-session-3/
END:VEVENT
END:VCALENDAR